BEGIN:VCALENDAR
VERSION:2.0
PRODID:-//Resoportal - ECPv6.15.20//NONSGML v1.0//EN
CALSCALE:GREGORIAN
METHOD:PUBLISH
X-ORIGINAL-URL:https://resoportal.de
X-WR-CALDESC:Veranstaltungen für Resoportal
REFRESH-INTERVAL;VALUE=DURATION:PT1H
X-Robots-Tag:noindex
X-PUBLISHED-TTL:PT1H
BEGIN:VTIMEZONE
TZID:Europe/Berlin
BEGIN:DAYLIGHT
TZOFFSETFROM:+0100
TZOFFSETTO:+0200
TZNAME:CEST
DTSTART:20250330T010000
END:DAYLIGHT
BEGIN:STANDARD
TZOFFSETFROM:+0200
TZOFFSETTO:+0100
TZNAME:CET
DTSTART:20251026T010000
END:STANDARD
BEGIN:DAYLIGHT
TZOFFSETFROM:+0100
TZOFFSETTO:+0200
TZNAME:CEST
DTSTART:20260329T010000
END:DAYLIGHT
BEGIN:STANDARD
TZOFFSETFROM:+0200
TZOFFSETTO:+0100
TZNAME:CET
DTSTART:20261025T010000
END:STANDARD
BEGIN:DAYLIGHT
TZOFFSETFROM:+0100
TZOFFSETTO:+0200
TZNAME:CEST
DTSTART:20270328T010000
END:DAYLIGHT
BEGIN:STANDARD
TZOFFSETFROM:+0200
TZOFFSETTO:+0100
TZNAME:CET
DTSTART:20271031T010000
END:STANDARD
END:VTIMEZONE
BEGIN:VEVENT
DTSTART;TZID=Europe/Berlin:20260224T090000
DTEND;TZID=Europe/Berlin:20261111T170000
DTSTAMP:20260426T020315
CREATED:20251202T184545Z
LAST-MODIFIED:20251202T184554Z
UID:10000068-1771923600-1794416400@resoportal.de
SUMMARY:Fachkraft für Gewaltprävention
DESCRIPTION:„Gewaltprävention richtet sich erstens auf das Verständnis des Phänomens der Gewalt und seiner Funktionsweise im Alltag und zweitens auf das Erlernen konfliktlösender Verhaltensweisen und der Strategien des Selbstschutzes und Schutzes anderer.“ \nIn dem Kurs „Fachkraft für Gewaltprävention“ lernen Sie Lösungsansätze für die Präventionsarbeit und zum Umgang mit Gewalt. Wir bündeln fachübergreifende Methoden zu einem praktikablen und erfolgreichen konfrontativen Arbeitsstil\, der sogleich in der eigenen Praxis umgesetzt und angewandt werden kann. Ein Schwerpunkt liegt auf dem Lösen von Konflikten und Anwenden von Interventionskonzepten speziell im Feld Kindergarten\, Schule und Gruppenkontexte. Wir erarbeiten ausführlich die Inhalte des so genannten Cool Down-Trainings und machen sie mit den dazugehörigen Praxisanteilen für Sie erlebbar. Sie erhalten alle Inhalte und Konzepte für die Durchführung einer Interventionsmaßnahme mit Jugendlichen und Erwachsenen. Zudem schulen wir im Bereich Eigenwahrnehmung und Impulskontrolle.
URL:https://resoportal.de/event/fachkraft-fuer-gewaltpraevention/
LOCATION:Seehaus-Akademie Leonberg\, Glemseck 1\, Leonberg\, Baden-Württemberg\, 71229\, Deutschland
ORGANIZER;CN="Seehaus e. V.":MAILTO:akademie@seehaus-ev.de
END:VEVENT
BEGIN:VEVENT
DTSTART;TZID=Europe/Berlin:20260424T170000
DTEND;TZID=Europe/Berlin:20260425T173000
DTSTAMP:20260426T020315
CREATED:20260317T133605Z
LAST-MODIFIED:20260317T134436Z
UID:10000075-1777050000-1777138200@resoportal.de
SUMMARY:Meißner Tagung 2026 - Wie viel „Zivil“ ist zu viel für den Justizvollzug?
DESCRIPTION:Landen Verurteilte im Gefängnis\, sind sie für die Gesellschaft jenseits der Mauern oft unsichtbar. \nGleichzeitig wächst der Anspruch\, dass Öffentlichkeit\, Ehrenamt und Forschung in den Prozess zur Resozialisierung stärker eingebunden werden. Doch wo liegen Chancen\, wo Grenzen? \nDie Fachtagung greift zentrale Fragen auf: \n\nWie können Ehrenamtliche sinnvoll und sicher im Vollzug mitwirken?\nWas leisten Beiräte\, und wo stoßen sie an Grenzen?\nWelche Rolle spielen Schöffinnen und Schöffen bei der Strafzumessung?\nWie wird wissenschaftlicher Nachwuchs in die Resozialisierungsforschung einbezogen?\nWelche Perspektiven eröffnen Kooperationen von Gefängniszeitungen mit externen Medien (u. a. Schulzeitungen)?\nUnd wie werden die Interessen der Opfer und deren erlittenes Leiden durch „Restorative Justice“ sichtbar?\n\nUnsere Gäste und Beteiligten dieser Veranstaltung\nProf. Dr. Christina Beckord\nFriedemann Brause\nAndreas Edhofer\nJörn Goeckenjan\nProf. Dr. Christine Graebsch\nProfessur für Rechtliche Grundlagen der Sozialen Arbeit\nBettina Hahn\nAndreas Höhne\nHermann Jaekel\nAndrea Jesse\nProf. Ulfrid Kleinert\nAnke Söldner\nDr. Thaya Vester
URL:https://resoportal.de/event/hammerwegtagung-2026-wie-viel-zivil-ist-zu-viel-fuer-den-justizvollzug/
ORGANIZER;CN="Hammerweg e.V. Dresden mit der Landeszentrale f%C3%BCr politische Bildung Sachsen%2C Dresden":MAILTO:info@hammerweg.eu
END:VEVENT
END:VCALENDAR