BEGIN:VCALENDAR
VERSION:2.0
PRODID:-//Resoportal - ECPv6.15.20//NONSGML v1.0//EN
CALSCALE:GREGORIAN
METHOD:PUBLISH
X-ORIGINAL-URL:https://resoportal.de
X-WR-CALDESC:Veranstaltungen für Resoportal
REFRESH-INTERVAL;VALUE=DURATION:PT1H
X-Robots-Tag:noindex
X-PUBLISHED-TTL:PT1H
BEGIN:VTIMEZONE
TZID:Europe/Berlin
BEGIN:DAYLIGHT
TZOFFSETFROM:+0100
TZOFFSETTO:+0200
TZNAME:CEST
DTSTART:20240331T010000
END:DAYLIGHT
BEGIN:STANDARD
TZOFFSETFROM:+0200
TZOFFSETTO:+0100
TZNAME:CET
DTSTART:20241027T010000
END:STANDARD
BEGIN:DAYLIGHT
TZOFFSETFROM:+0100
TZOFFSETTO:+0200
TZNAME:CEST
DTSTART:20250330T010000
END:DAYLIGHT
BEGIN:STANDARD
TZOFFSETFROM:+0200
TZOFFSETTO:+0100
TZNAME:CET
DTSTART:20251026T010000
END:STANDARD
BEGIN:DAYLIGHT
TZOFFSETFROM:+0100
TZOFFSETTO:+0200
TZNAME:CEST
DTSTART:20260329T010000
END:DAYLIGHT
BEGIN:STANDARD
TZOFFSETFROM:+0200
TZOFFSETTO:+0100
TZNAME:CET
DTSTART:20261025T010000
END:STANDARD
END:VTIMEZONE
BEGIN:VEVENT
DTSTART;TZID=Europe/Berlin:20251201T090000
DTEND;TZID=Europe/Berlin:20251201T103000
DTSTAMP:20260426T062820
CREATED:20251028T104803Z
LAST-MODIFIED:20251028T104803Z
UID:10000064-1764579600-1764585000@resoportal.de
SUMMARY:ONLINE Merkmale und Sanktionierung von Femiziden
DESCRIPTION:Wenngleich jedes Tötungsdelikt einzigartig ist\, lassen sich Muster bei der Entstehung von Tötungsdelikten begangen durch den (ehemaligen) Partner beobachten. Im Vortrag wird unter anderem betrachtet\, welche Rolle Trennungen\, Gewalt und Kontrolle in Partnerschaften spielen und wie dies in Urteile deutscher Gerichte einfließt. \n\nAn der Veranstaltung wirkt mit: \nDr. Julia Habermann\, wissenschaftl. Mitarbeiterin\, Ruhr-Universität Bochum
URL:https://resoportal.de/event/online-merkmale-und-sanktionierung-von-femiziden/
LOCATION:Online (Zoom)
END:VEVENT
BEGIN:VEVENT
DTSTART;TZID=Europe/Berlin:20251211T100000
DTEND;TZID=Europe/Berlin:20251211T123000
DTSTAMP:20260426T062820
CREATED:20250909T171200Z
LAST-MODIFIED:20250909T171203Z
UID:10000061-1765447200-1765456200@resoportal.de
SUMMARY:ONLINE Wie spreche ich mit Kindern über die Inhaftierung eines Elternteils?
DESCRIPTION:Gründe für einen ehrlichen Umgang mit dem Thema Haft – Informationen und Hilfen für Eltern/Bezugspersonen/Fachkräfte – Tipps fürs Gespräch – Formulierungshilfen für Mitarbeitende in Einrichtungen der Kinder- und Jugendhilfe\, (Erziehungs)-Beratungsstellen und Jugendämtern sowie andere Interessierte
URL:https://resoportal.de/event/online-wie-spreche-ich-mit-kindern-ueber-die-inhaftierung-eines-elternteils/
END:VEVENT
END:VCALENDAR