BEGIN:VCALENDAR
VERSION:2.0
PRODID:-//Resoportal - ECPv6.15.20//NONSGML v1.0//EN
CALSCALE:GREGORIAN
METHOD:PUBLISH
X-WR-CALNAME:Resoportal
X-ORIGINAL-URL:https://resoportal.de
X-WR-CALDESC:Veranstaltungen für Resoportal
REFRESH-INTERVAL;VALUE=DURATION:PT1H
X-Robots-Tag:noindex
X-PUBLISHED-TTL:PT1H
BEGIN:VTIMEZONE
TZID:Europe/Berlin
BEGIN:DAYLIGHT
TZOFFSETFROM:+0100
TZOFFSETTO:+0200
TZNAME:CEST
DTSTART:20230326T010000
END:DAYLIGHT
BEGIN:STANDARD
TZOFFSETFROM:+0200
TZOFFSETTO:+0100
TZNAME:CET
DTSTART:20231029T010000
END:STANDARD
BEGIN:DAYLIGHT
TZOFFSETFROM:+0100
TZOFFSETTO:+0200
TZNAME:CEST
DTSTART:20240331T010000
END:DAYLIGHT
BEGIN:STANDARD
TZOFFSETFROM:+0200
TZOFFSETTO:+0100
TZNAME:CET
DTSTART:20241027T010000
END:STANDARD
BEGIN:DAYLIGHT
TZOFFSETFROM:+0100
TZOFFSETTO:+0200
TZNAME:CEST
DTSTART:20250330T010000
END:DAYLIGHT
BEGIN:STANDARD
TZOFFSETFROM:+0200
TZOFFSETTO:+0100
TZNAME:CET
DTSTART:20251026T010000
END:STANDARD
END:VTIMEZONE
BEGIN:VEVENT
DTSTART;TZID=Europe/Berlin:20240307T170000
DTEND;TZID=Europe/Berlin:20240307T190000
DTSTAMP:20260420T124637
CREATED:20240303T172058Z
LAST-MODIFIED:20240303T172058Z
UID:10000018-1709830800-1709838000@resoportal.de
SUMMARY:Opferschutz in Niedersachsen - Veranstaltung im OLG Oldenburg
DESCRIPTION:Die Aufarbeitung von Straftaten beschränkt sich nicht auf die Aburteilung der Täter. Die Unterstützung von Opfern körperlicher oder seelischer Gewalt ist ein ebenso wichtiges Anliegen. Aber wie genau ist der Opferschutz in Niedersachen organisiert und welche Angebote gibt es? \nDiese und andere Fragen beantwortet der Niedersächsische Landesbeauftragte für Opferschutz\, Herr Thomas Pfleiderer\, im Rahmen eines Vortrages am Donnerstag\, den 07. März 2024 um 17.30 Uhr im Sitzungssaal des Oberlandesgerichts Oldenburg. Dabei kommen an verschiedenen Stellen auch regionale Angebote zur Sprache. \nDie Veranstaltung ist öffentlich. Interessierte sind herzlich eingeladen. Eine Anmeldung ist nicht erforderlich und die Teilnahme ist kostenlos.
URL:https://resoportal.de/event/opferschutz-in-niedersachsen-veranstaltung-im-olg-oldenburg/
LOCATION:Oberlandesgericht Oldenburg\, Richard-Wagner-Platz 1\, Oldenburg\, Niedersachsen\, 26135\, Deutschland
CATEGORIES:Präsenz
END:VEVENT
END:VCALENDAR