BEGIN:VCALENDAR
VERSION:2.0
PRODID:-//Resoportal - ECPv6.15.20//NONSGML v1.0//EN
CALSCALE:GREGORIAN
METHOD:PUBLISH
X-ORIGINAL-URL:https://resoportal.de
X-WR-CALDESC:Veranstaltungen für Resoportal
REFRESH-INTERVAL;VALUE=DURATION:PT1H
X-Robots-Tag:noindex
X-PUBLISHED-TTL:PT1H
BEGIN:VTIMEZONE
TZID:Europe/Berlin
BEGIN:DAYLIGHT
TZOFFSETFROM:+0100
TZOFFSETTO:+0200
TZNAME:CEST
DTSTART:20230326T010000
END:DAYLIGHT
BEGIN:STANDARD
TZOFFSETFROM:+0200
TZOFFSETTO:+0100
TZNAME:CET
DTSTART:20231029T010000
END:STANDARD
BEGIN:DAYLIGHT
TZOFFSETFROM:+0100
TZOFFSETTO:+0200
TZNAME:CEST
DTSTART:20240331T010000
END:DAYLIGHT
BEGIN:STANDARD
TZOFFSETFROM:+0200
TZOFFSETTO:+0100
TZNAME:CET
DTSTART:20241027T010000
END:STANDARD
BEGIN:DAYLIGHT
TZOFFSETFROM:+0100
TZOFFSETTO:+0200
TZNAME:CEST
DTSTART:20250330T010000
END:DAYLIGHT
BEGIN:STANDARD
TZOFFSETFROM:+0200
TZOFFSETTO:+0100
TZNAME:CET
DTSTART:20251026T010000
END:STANDARD
BEGIN:DAYLIGHT
TZOFFSETFROM:+0100
TZOFFSETTO:+0200
TZNAME:CEST
DTSTART:20260329T010000
END:DAYLIGHT
BEGIN:STANDARD
TZOFFSETFROM:+0200
TZOFFSETTO:+0100
TZNAME:CET
DTSTART:20261025T010000
END:STANDARD
BEGIN:DAYLIGHT
TZOFFSETFROM:+0100
TZOFFSETTO:+0200
TZNAME:CEST
DTSTART:20270328T010000
END:DAYLIGHT
BEGIN:STANDARD
TZOFFSETFROM:+0200
TZOFFSETTO:+0100
TZNAME:CET
DTSTART:20271031T010000
END:STANDARD
END:VTIMEZONE
BEGIN:VEVENT
DTSTART;TZID=Europe/Berlin:20260223T093000
DTEND;TZID=Europe/Berlin:20260224T163000
DTSTAMP:20260424T191047
CREATED:20260127T234839Z
LAST-MODIFIED:20260211T111730Z
UID:10000069-1771839000-1771950600@resoportal.de
SUMMARY:ONLINE Seminar "Häusliche Gewalt" mit Dr. Rita Steffes-enn\, Kriminologin (M.A.)\, ZKPF
DESCRIPTION:Es werden motivationale Zusammenhänge und Rechtfertigungen aufgezeigt. Die dem zu Grunde liegenden Neutralisierungstechniken sind wichtige Mechanismen im Falle von Normverletzungen\, somit auch bei häuslicher Gewalt. Im Vortrag wird die Bedeutung und Ausgestaltung von Neutralisierungstechniken von Tätern dargelegt. Eine Besonderheit stellen auch die systemischen Verflechtungen des Täters\, des Opfers und des sozialen Umfeldes dar. Gerade dieser Aspekt spielt für die Netzwerkarbeit eine nicht unerhebliche Rolle. Die Schwerpunkte des Seminars werden anhand von Fallbeispielen erörtert\, wobei der Blick durch die „Brille“ der Täter eine besondere Form bietet\, Handlungsmöglichkeiten für Prävention und Fallmanagement abzuleiten. Letztlich eröffnet dies auch einen neuen Blickwinkel auf Lücken in Informations- und Fallmanagementstrukturen. Die Inhalte werden anhand von Fallbeispielen erörtert und diskutiert.
URL:https://resoportal.de/event/online-seminar-haeusliche-gewalt-mit-dr-rita-steffes-enn-kriminologin-m-a-zkpf/
LOCATION:Online (Zoom)
ORGANIZER;CN="Seehaus e. V.":MAILTO:akademie@seehaus-ev.de
END:VEVENT
BEGIN:VEVENT
DTSTART;TZID=Europe/Berlin:20260220T090000
DTEND;TZID=Europe/Berlin:20260220T170000
DTSTAMP:20260424T191047
CREATED:20251202T183805Z
LAST-MODIFIED:20251202T184018Z
UID:10000067-1771578000-1771606800@resoportal.de
SUMMARY:FASD (Fetal Alcohol Spectrum Disorder) – Eine Herausforderung für Familien\, Pädagogen\, Systeme und Gesellschaft
DESCRIPTION:Eine alkoholbedingte vorgeburtliche hirnorganische Schädigung\, wie sie bei Fetalen Alkoholspektrumstörungen (FASD) auftritt\, beeinträchtigt das Leben der betroffenen Menschen erheblich. Diese Schädigungen führen zu körperlichen\, geistigen und verhaltensbezogenen Beeinträchtigungen\, die das tägliche Leben erschweren. \nFür die Familien bedeutet dies oft eine intensive Betreuung und Förderung des betroffenen Kindes\, was den Erziehungsurlaub und das Familienleben stark beeinflusst. In der Schule benötigen Kinder mit FASD spezielle Unterstützung\, um den Anforderungen gerecht zu werden. Auch in der Ausbildung und im Beruf stehen sie vor besonderen Herausforderungen und benötigen oft zusätzliche Hilfe. \nDas soziale Miteinander in der Familie\, Schule und Freizeit wird durch die besonderen Bedürfnisse der Betroffenen beeinflusst. Es erfordert viel Verständnis\, Geduld und Unterstützung von allen Beteiligten\, um den betroffenen Menschen ein möglichst selbstbestimmtes Leben zu ermöglichen.
URL:https://resoportal.de/event/fasd-fetal-alcohol-spectrum-disorder-eine-herausforderung-fuer-familien-paedagogen-systeme-und-gesellschaft/
LOCATION:Seehaus-Akademie Leonberg\, Glemseck 1\, Leonberg\, Baden-Württemberg\, 71229\, Deutschland
ORGANIZER;CN="Seehaus e. V.":MAILTO:akademie@seehaus-ev.de
END:VEVENT
BEGIN:VEVENT
DTSTART;TZID=Europe/Berlin:20251120T090000
DTEND;TZID=Europe/Berlin:20251121T163000
DTSTAMP:20260424T191047
CREATED:20250623T171154Z
LAST-MODIFIED:20250623T171306Z
UID:10000055-1763629200-1763742600@resoportal.de
SUMMARY:Resilienzförderung unter Berücksichtigung der Traumapädagogik
DESCRIPTION:Um junge Menschen zu stärken\, damit sie Herausforderungen bewältigen können und positive Fähigkeiten entwickeln können\, braucht es Wissen um Resilienzfaktoren und traumapädagogische Ansätze. Die Fortbildung beinhaltet die Ergebnisse der Resilienzforschung und zeigt Förderungsmöglichkeiten auf.\nKinder und Jugendliche\, die ressourcenarm aufwachsen und traumatische Erfahrungen machen\, brauchen Fachkräfte mit Theoriewissen über die Entstehung von Traumata\, Traumafolgestörungen\, Stressregulierung usw. und praktische Kompetenzen im Umgang mit Traumatisierten\, wie Psychoedukation und Skillstraining.
URL:https://resoportal.de/event/resilienzfoerderung-unter-beruecksichtigung-der-traumapaedagogik/
LOCATION:Seehaus-Akademie Leonberg\, Glemseck 1\, Leonberg\, Baden-Württemberg\, 71229\, Deutschland
ORGANIZER;CN="Seehaus e. V.":MAILTO:akademie@seehaus-ev.de
END:VEVENT
BEGIN:VEVENT
DTSTART;TZID=Europe/Berlin:20251020T090000
DTEND;TZID=Europe/Berlin:20251020T163000
DTSTAMP:20260424T191047
CREATED:20250623T171752Z
LAST-MODIFIED:20250623T171752Z
UID:10000056-1760950800-1760977800@resoportal.de
SUMMARY:Einführung in die Traumapädagogik
DESCRIPTION:Sie arbeiten mit traumatisierten Kindern und Jugendlichen und merken\, dass erzieherisches Handeln allein manchmal an seine Grenzen stößt? Sie möchten Ihre Fähigkeiten erweitern\, um diesen jungen Menschen besser helfen zu können? Dieses Seminar bietet Ihnen eine fundierte Einführung in die Grundlagen der Traumapädagogik. \nIn diesem Tagesseminar lernen Sie\, die Auswirkungen von Traumata besser zu verstehen und erste Schritte zu gehen\, um sichere Beziehungen aufzubauen. Wir besprechen grundlegende traumasensible Interventionen und zeigen auf\, wie Sie in Ihrer Einrichtung ein unterstützendes Umfeld schaffen können\, um junge Menschen in ihrer emotionalen Stabilisierung zu begleiten. \nGewinnen Sie neue Perspektiven und erste praktische Ansätze\, um die Herausforderungen in Ihrer Arbeit kompetent und empathisch anzugehen.
URL:https://resoportal.de/event/einfuehrung-in-die-traumapaedagogik-2/
LOCATION:Seehaus-Akademie Leonberg\, Glemseck 1\, Leonberg\, Baden-Württemberg\, 71229\, Deutschland
ORGANIZER;CN="Seehaus e. V.":MAILTO:akademie@seehaus-ev.de
END:VEVENT
BEGIN:VEVENT
DTSTART;TZID=Europe/Berlin:20250722T100000
DTEND;TZID=Europe/Berlin:20250723T170000
DTSTAMP:20260424T191047
CREATED:20250226T001913Z
LAST-MODIFIED:20250226T002440Z
UID:10000046-1753178400-1753290000@resoportal.de
SUMMARY:Impact-Techniken in der Täterarbeit – wenn es mit Worten schwierig ist: mit Stefanie Wenzlaw und Dipl. Psych. Frank Löhr
DESCRIPTION:Impact-Techniken in der Arbeit mit Tätern sind spezialisierte Methoden\, die darauf abzielen\, Verhaltensänderungen herbeizuführen\, Verantwortungsbewusstsein zu fördern und das Risiko erneuter Straftaten zu verringern. Diese Techniken sind besonders wichtig in der Rehabilitation und Resozialisierung von Straftätern\, da sie darauf abzielen\, tief verwurzelte Denkmuster und Verhaltensweisen zu verändern. \nVorgestellt werden unterschiedliche Materialien\, die zu einem Dolmetscher werden\, wenn die Sprache zur Beschreibung des inneren Zustands nicht ausreicht. Sie sind damit ein Transportmittel. Jeder Gegenstand eignet sich hierbei als Symbol und wird zu einem begreifbaren Gegenstand. Die Auswahl trifft der Klient. Er verbindet damit eine Geschichte mit unterschiedlichen Gefühlen und Verhalten. Grundlage unserer kreativen Techniken ist die psychologische Symbolarbeit von Wilfried Schneider (Psychologische Symbolarbeit)\, die an die Bedingungen in der Arbeit mit Gewalt- und Sexualstraftätern angepasst wurde.
URL:https://resoportal.de/event/impact-techniken-in-der-taeterarbeit-wenn-es-mit-worten-schwierig-ist-mit-stefanie-wenzlaw-und-dipl-psych-frank-loehr/
LOCATION:Seehaus-Akademie Leonberg\, Glemseck 1\, Leonberg\, Baden-Württemberg\, 71229\, Deutschland
ORGANIZER;CN="Seehaus e. V.":MAILTO:akademie@seehaus-ev.de
END:VEVENT
BEGIN:VEVENT
DTSTART;TZID=Europe/Berlin:20250526T090000
DTEND;TZID=Europe/Berlin:20250527T160000
DTSTAMP:20260424T191047
CREATED:20250226T000657Z
LAST-MODIFIED:20250226T001513Z
UID:10000044-1748250000-1748361600@resoportal.de
SUMMARY:Grundlagen deliktorientierten Arbeitens mit Dr. Rita Steffes-enn\, Kriminologin (M.A.)\, Zentrum für Kriminologie & Polizeiforschung (ZKPF)
DESCRIPTION:In der Täterarbeit kommt der Analyse der motivationalen Zusammenhänge und der Tatdynamik eine besondere Bedeutung zu. Die sogenannte Delikthypothese spielt sowohl in der Risikoeinschätzung als auch in der Rückfallprävention eine zentrale Rolle. Denn neben kriminogenen Bedarfen sollen die der Tat zugrunde liegenden Bedürfnisse herausgearbeitet werden. Den Teilnehmern wird im Seminar Basiswissen zur tiefergehenden Betrachtung der „Sprache des Delikts“ vermittelt.
URL:https://resoportal.de/event/grundlagen-deliktorientierten-arbeitens-mit-dr-rita-steffes-enn-kriminologin-m-a-zentrum-fuer-kriminologie-polizeiforschung-zkpf/
LOCATION:Seehaus-Akademie Leonberg\, Glemseck 1\, Leonberg\, Baden-Württemberg\, 71229\, Deutschland
ORGANIZER;CN="Seehaus e. V.":MAILTO:akademie@seehaus-ev.de
END:VEVENT
BEGIN:VEVENT
DTSTART;TZID=Europe/Berlin:20250520T090000
DTEND;TZID=Europe/Berlin:20250520T170000
DTSTAMP:20260424T191047
CREATED:20250226T001051Z
LAST-MODIFIED:20250226T001051Z
UID:10000045-1747731600-1747760400@resoportal.de
SUMMARY:Fachtag Opferhilfe: Rechte und Ansprüche von Opfern
DESCRIPTION:Im Diskurs um Straftaten und Strafverfolgung geraten die Rechte und Ansprüche von Opfern oft in den Hintergrund. Mit dieser Veranstaltung rücken wir die Bedürfnisse und Anliegen der Geschädigten in den Mittelpunkt.\nAm Fachtag Opferschutz setzen wir uns tiefer auseinander mit den rechtlichen\, psychologischen und sozialen Dimensionen des Opferschutzes. Ziel ist es\, aktuelle Entwicklungen\, Herausforderungen und Best Practices im Bereich der Opferrechte zu diskutieren und interdisziplinäre Lösungsansätze zu erarbeiten. \nDer Fachtag dient dazu\, die Rechte und Ansprüche von Opfern zu stärken\, die Zusammenarbeit zwischen den verschiedenen Akteuren zu fördern und die Umsetzung von Opferschutzmaßnahmen zu verbessern.
URL:https://resoportal.de/event/fachtag-opferhilfe-rechte-und-ansprueche-von-opfern/
LOCATION:Seehaus-Akademie Leonberg\, Glemseck 1\, Leonberg\, Baden-Württemberg\, 71229\, Deutschland
ORGANIZER;CN="Seehaus e. V.":MAILTO:akademie@seehaus-ev.de
END:VEVENT
BEGIN:VEVENT
DTSTART;TZID=Europe/Berlin:20250509T090000
DTEND;TZID=Europe/Berlin:20250509T123000
DTSTAMP:20260424T191047
CREATED:20250226T002829Z
LAST-MODIFIED:20250226T002840Z
UID:10000047-1746781200-1746793800@resoportal.de
SUMMARY:Umgang mit depressiven Personen in der beraterischen Praxis mit Dipl.-Psychologin Katrin Hemminger
DESCRIPTION:Der Umgang mit Menschen mit psychischen Erkrankungen kann für Helferinnen und Helfer eine besondere Herausforderung darstellen\, da die gewünschten Hilfsmaßnahmen oft nicht wie geplant umgesetzt werden können. Wir möchten uns Zeit nehmen\, darüber zu sprechen\, wie man im Hilfekontext erkennen kann\, dass eine Depression vorliegt\, welche Veränderungen dadurch auftreten und wie wir eine Herangehensweise finden können\, die uns selbst nicht frustriert oder uns sogar in depressive Gedankenkreise zieh
URL:https://resoportal.de/event/umgang-mit-depressiven-personen-in-der-beraterischen-praxis-mit-dipl-psychologin-katrin-hemminger/
LOCATION:Seehaus-Akademie Leonberg\, Glemseck 1\, Leonberg\, Baden-Württemberg\, 71229\, Deutschland
ORGANIZER;CN="Seehaus e. V.":MAILTO:akademie@seehaus-ev.de
END:VEVENT
BEGIN:VEVENT
DTSTART;TZID=Europe/Berlin:20250321T093000
DTEND;TZID=Europe/Berlin:20250321T163000
DTSTAMP:20260424T191047
CREATED:20241217T225155Z
LAST-MODIFIED:20241217T230645Z
UID:10000041-1742549400-1742574600@resoportal.de
SUMMARY:Praktische Interventionen mit traumatisierten Trauernden
DESCRIPTION:Sie arbeiten mit trauernden Menschen\, die teilweise auch traumatische Verluste erleben mussten?\nIn diesem Seminar wird es zunächst darum gehen\, wie Trauer und Trauma sich gegenseitig beeinflussen und welche Auswirkung sie im Leben haben können. Es werden praktische Interventionen des Umgangs vermittelt und das Wissen um einen traumasensiblen Umgang mit Trauernden. \nDer natürliche Trauerprozess soll dadurch unterstützt und gefördert werden\, um eine anhaltende Trauerstörung vorzubeugen.
URL:https://resoportal.de/event/praktische-interventionen-mit-traumatisierten-trauernden/
LOCATION:Seehaus-Akademie Leonberg\, Glemseck 1\, Leonberg\, Baden-Württemberg\, 71229\, Deutschland
ORGANIZER;CN="Seehaus e. V.":MAILTO:akademie@seehaus-ev.de
END:VEVENT
BEGIN:VEVENT
DTSTART;TZID=Europe/Berlin:20250225T090000
DTEND;TZID=Europe/Berlin:20251112T170000
DTSTAMP:20260424T191047
CREATED:20241217T230432Z
LAST-MODIFIED:20241217T230432Z
UID:10000042-1740474000-1762966800@resoportal.de
SUMMARY:Fachkraft für Gewaltprävention (Jahreskurs mit Zertifikat)
DESCRIPTION:„Gewaltprävention richtet sich erstens auf das Verständnis des Phänomens der Gewalt und seiner Funktionsweise im Alltag und zweitens auf das Erlernen konfliktlösender Verhaltensweisen und der Strategien des Selbstschutzes und Schutzes anderer.“ \nIn dem Zertifikatskurs „Fachkraft für Gewaltprävention“ lernen Sie Lösungsansätze für die Präventionsarbeit und zum Umgang mit Gewalt. Wir bündeln fachübergreifende Methoden zu einem praktikablen und erfolgreichen konfrontativen Arbeitsstil\, der sogleich in der eigenen Praxis umgesetzt und angewandt werden kann. Ein Schwerpunkt liegt auf dem Lösen von Konflikten und Anwenden von Interventionskonzepten speziell im Feld Kindergarten\, Schule und Gruppenkontexte. Wir erarbeiten ausführlich die Inhalte des so genannten Cool Down-Trainings und machen sie mit den dazugehörigen Praxisanteilen für Sie erlebbar. Sie erhalten alle Inhalte und Konzepte für die Durchführung einer Interventionsmaßnahme mit Jugendlichen und Erwachsenen. Zudem schulen wir im Bereich Eigenwahrnehmung und Impulskontrolle. \n Themenübersicht\n\nEinführung in die Gewaltprävention und Selbstbehauptung\nCool Down- (CDT) und Anti-Gewalt-Trainings (AGT)\nIdentitätsentwicklung; Selbstwert; Selbstbewusstsein\nKonfrontative Pädagogik: Grundlagen und Handlungsstrategien zum Umgang mit aggressivem und abweichendem Verhalten.\nGruppendynamiken\, Rollenspiele\, Erlebnispädagogik\, Empathie- und Beziehungskompetenz.\nSelbstbehauptungs- und Selbstschutz Training für Schulen\, Heime\, Behörden und öffentliche Einrichtungen\nKörpersprache\, angriffsvorbereitende Kennzeichen\nDeeskalationstechniken\nResilienz- und Impulskontrollübungen
URL:https://resoportal.de/event/fachkraft-fuer-gewaltpraevention-jahreskurs-mit-zertifikat/
LOCATION:Seehaus-Akademie Leonberg\, Glemseck 1\, Leonberg\, Baden-Württemberg\, 71229\, Deutschland
ORGANIZER;CN="Seehaus e. V.":MAILTO:akademie@seehaus-ev.de
END:VEVENT
BEGIN:VEVENT
DTSTART;TZID=Europe/Berlin:20250116T080000
DTEND;TZID=Europe/Berlin:20250117T170000
DTSTAMP:20260424T191047
CREATED:20241217T224851Z
LAST-MODIFIED:20241217T224851Z
UID:10000040-1737014400-1737133200@resoportal.de
SUMMARY:Grundkurs Positive Peer Culture (PPC)
DESCRIPTION:Positive Peer Culture (PPC)\nWie kann Ausgrenzung verhindert\, Verantwortung gestärkt und Selbstwert von Kindern und Jugendlichen entwickelt werden?\nPPC ist ein ressourcen- und bedürfnisorientierter Ansatz für alle am Erziehungsprozess beteiligten Erwachsenen und jungen Menschen. Der von Larry Brendtro und Harry Vorrath entwickelte Ansatz setzt konsequent an den Stärken und Potenzialen von Kindern und Jugendlichen an. PPC nutzt den prägenden Einfluss der „Peers“ als motivierende und gestalterische Kraft. 
URL:https://resoportal.de/event/grundkurs-positive-peer-culture-ppc/
LOCATION:Seehaus-Akademie Leonberg\, Glemseck 1\, Leonberg\, Baden-Württemberg\, 71229\, Deutschland
ORGANIZER;CN="Seehaus e. V.":MAILTO:akademie@seehaus-ev.de
END:VEVENT
BEGIN:VEVENT
DTSTART;TZID=Europe/Berlin:20240515T090000
DTEND;TZID=Europe/Berlin:20240515T130000
DTSTAMP:20260424T191047
CREATED:20240327T064639Z
LAST-MODIFIED:20240327T064639Z
UID:10000030-1715763600-1715778000@resoportal.de
SUMMARY:Suizidale Krisen - Umgang mit suizidgefährdeten Menschen
DESCRIPTION:Die Konfrontation mit Suizidalität ist für viele Helfende\, ob professionell\, ehrenamtlich oder betroffene Angehörige\, von Angst\, Überforderung und Ohnmacht gekennzeichnet. \nWie kann man dieser Krise kompetent und angemessen begegnen\, ohne die eigenen Grenzen zu überschreiten? Wie können Unsicherheiten in Beratungs- und Aktusituationen überwunden werden? Auf diese Frage und weitere möchten wir an diesem Tag gemeinsam eingehen. \nDie Referentin vermittelt praxisnahes Wissen\, um Ihre Handlungssicherheit in suizidalen Krisen zu stärken.
URL:https://resoportal.de/event/suizidale-krisen-umgang-mit-suizidgefaehrdeten-menschen/
LOCATION:Seehaus-Akademie Leonberg\, Glemseck 1\, Leonberg\, Baden-Württemberg\, 71229\, Deutschland
ORGANIZER;CN="Seehaus e. V.":MAILTO:akademie@seehaus-ev.de
END:VEVENT
BEGIN:VEVENT
DTSTART;TZID=Europe/Berlin:20240514T090000
DTEND;TZID=Europe/Berlin:20240514T163000
DTSTAMP:20260424T191047
CREATED:20240327T064332Z
LAST-MODIFIED:20240327T064332Z
UID:10000029-1715677200-1715704200@resoportal.de
SUMMARY:Einführung in die Traumapädagogik
DESCRIPTION:In Kinder- und Jugendhilfeeinrichtungen arbeiten Fachkräfte mit traumatisierten Kindern und Jugendlichen. Dieses Grundlagenseminar soll Impulse geben und befähigen\, gute Entwicklungen zu fördern sowie dazu anregen\, ein traumapädagogisches Milieu in Einrichtungen der Kinder- und Jugendhilfe zu etablieren.
URL:https://resoportal.de/event/einfuehrung-in-die-traumapaedagogik/
LOCATION:Seehaus-Akademie Leonberg\, Glemseck 1\, Leonberg\, Baden-Württemberg\, 71229\, Deutschland
ORGANIZER;CN="Seehaus e. V.":MAILTO:akademie@seehaus-ev.de
END:VEVENT
BEGIN:VEVENT
DTSTART;TZID=Europe/Berlin:20240415T090000
DTEND;TZID=Europe/Berlin:20240416T160000
DTSTAMP:20260424T191047
CREATED:20240304T212154Z
LAST-MODIFIED:20240305T085739Z
UID:10000020-1713171600-1713283200@resoportal.de
SUMMARY:Seminar zum Umgang mit Gewalttätern mit Dr. Rita Steffes-enn\, Zentrum für Kriminologie & Polizeiforschung ZKPF
DESCRIPTION:Der Umgang mit gewaltbereiten und gewaltsuchenden Personen verläuft zumeist asymmetrisch. Besonders deutlich wird dies\, wenn sich gewaltbereite Personen mit ihrem Fehlverhalten konfrontiert sehen. Anhand von Fallbeispielen werden die sich hieraus ergebenden Kommunikationsfallen aufgezeigt.   \nDie Motive für Gewaltanwendung sind äußerst heterogen und deren Berücksichtigung für ein rückfallpräventives Fallmanagement unabdingbar. Im Seminar werden die kriminogenen Besonderheiten verschiedener Gewaltphänomene beleuchtet und entsprechende Täter-Typologien erörtert. Der daraus resultierende rückfallpräventive Interventionsbedarf wird anhand von Praxisbeispielen dargestellt und mit den Teilnehmenden diskutiert.  \nZiel\n\nDen Teilnehmenden werden Impulse für den rückfallpräventiven Umgang mit Gewalttätern gegeben. \nDie Teilnehmenden bekommen Gelegenheit\, das eigene professionelle Handeln anhand von dargelegten Fallvignetten zu reflektieren. \nDie Teilnehmenden erlangen Handlungssicherheit zum Erkennen der kriminogenen Bedarfe zur Rückfallprävention \n\nInhalte\n\nTypologien von Gewalttätern \nKommunikations- & Interaktionsmuster gewaltbereiter Personen \nRückfallprävention \nFallmanagement \nFallbeispiele \n\nMethoden\n\nImpulsreferate \nDiskussionen im Plenum \nKleingruppenarbeit \nFallbeispiele 
URL:https://resoportal.de/event/seminar-zum-umgang-mit-gewalttaetern-mit-dr-rita-steffes-enn-zentrum-fuer-kriminologie-polizeiforschung-zkpf/
LOCATION:Online
CATEGORIES:Online
ORGANIZER;CN="Seehaus e. V.":MAILTO:akademie@seehaus-ev.de
END:VEVENT
BEGIN:VEVENT
DTSTART;TZID=Europe/Berlin:20240312T083000
DTEND;TZID=Europe/Berlin:20240312T170000
DTSTAMP:20260424T191047
CREATED:20240112T152041Z
LAST-MODIFIED:20240209T163940Z
UID:10000007-1710232200-1710262800@resoportal.de
SUMMARY:Fachtag Opferhilfe: Häusliche Gewalt
DESCRIPTION:Gemeinsam für einen besseren Opferschutz: Umgang mit häuslicher Gewalt in der interdisziplinären Kooperation von Wissenschaft\, Medizin\, Sozialarbeit\, Polizei und Justiz\nHäusliche Gewalt ist ein Querschnittsthema\, das viele Arbeitsfelder in unterschiedlicher Weise berührt. Der Fachtag hat zum Ziel\, durch Fachvorträge und Workshops arbeitsfeldübergreifend vorhandenes Wissen zu den Themen häusliche Gewalt\, Gewalt in Partnerschaften und Auswirkungen auf das Kindeswohl zu überprüfen und zu erneuern sowie für häusliche bzw. geschlechtsspezifische Gewalt zu sensibilisieren.
URL:https://resoportal.de/event/fachtag-opferhilfe-haeusliche-gewalt/
LOCATION:Seehaus-Akademie Leonberg\, Glemseck 1\, Leonberg\, Baden-Württemberg\, 71229\, Deutschland
CATEGORIES:Präsenz
ORGANIZER;CN="Seehaus e. V.":MAILTO:akademie@seehaus-ev.de
END:VEVENT
BEGIN:VEVENT
DTSTART;VALUE=DATE:20240301
DTEND;VALUE=DATE:20241201
DTSTAMP:20260424T191047
CREATED:20240208T130831Z
LAST-MODIFIED:20240208T130831Z
UID:10000014-1709251200-1733011199@resoportal.de
SUMMARY:Fachkraft für Resilienzförderung in der Kinder- und Jugendhilfe
DESCRIPTION:Zertifizierte Weiterbildung zur Fachkraft für Resilienzförderung in der Kinder- und Jugendhilfe \nFür Personen\, die mit Kindern und Jugendlichen arbeiten und leben\, ist die Auseinandersetzung mit den Bewältigungsprozessen junger Menschen mit schwierigen und traumatischen Biographien unerlässlich. Diese Bewältigungsprozesse müssen im System nicht nur berücksichtigt\, sondern in vertrauensvollen Beziehungsangeboten mit kompetentem Fach- und Methodenwissen begegnet werden.  \nDer Zertifikatskurs setz sich daher mehrperspektivisch aus unterschiedlichen Modulen zusammen. Neben theoretischem Wissen und Fachkenntnissen (Pädagogik und Traumapädagogik\, Psychotraumatologie und Psychologie\, systemische Sichtweisen) soll die Arbeit an Fallbeispielen und Praxiserfahrung (stärke- und ressourcenorientierte Konzepte) mit Selbstreflexion einen wichtigen Stellenwert einnehmen.  \nZiel der Weiterbildung ist es\, Antworten auf die Fragen zu geben\, welche uns die Kinder und Jugendlichen stellen\, die wir oft Systemsprenger_innen nennen: Antworten\, die in hoffnungsvolle Beziehungen und verantwortungsvolle Zukunft führen. Dazu gehört es\, das bisherige „System“ neu zu denken\, eine neue Infrastruktur in den Einrichtungen der Kinder- und Jugendhilfe zu etablieren\, die die (Über-) Lebensleistungen der traumatisierten Jugendlichen anerkennt\, die jungen Menschen als Expert_innen für ihr eigenes Leben ansieht und sie beim Heben ihres (oft verborgenen) Potentials unterstützt: Ein kompetenz- und resilienzförderndes Miteinander\, das auf alle im Erziehungsprozess Beteiligten abzielt\, sowohl die Kinder und Jugendlichen\, als auch die Fachkräfte und Eltern.   \nEin Supervisionsmodul und kollegiale Beratung im Rahmen von mehreren Peergruppentreffen werden die Lernprozesse unterstützend und auswertend begleiten. Im Rahmen des Zertifikatskurses verfassen die Teilnehmenden eine kleine Abschlussarbeit\, die sie im Abschlusscolloquium präsentieren werden. 
URL:https://resoportal.de/event/fachkraft-fuer-resilienzfoerderung-in-der-kinder-und-jugendhilfe/
LOCATION:Seehaus-Akademie Leonberg\, Glemseck 1\, Leonberg\, Baden-Württemberg\, 71229\, Deutschland
ORGANIZER;CN="Seehaus e. V.":MAILTO:akademie@seehaus-ev.de
END:VEVENT
BEGIN:VEVENT
DTSTART;TZID=Europe/Berlin:20240223T090000
DTEND;TZID=Europe/Berlin:20240223T170000
DTSTAMP:20260424T191047
CREATED:20240208T130356Z
LAST-MODIFIED:20240209T163944Z
UID:10000013-1708678800-1708707600@resoportal.de
SUMMARY:Biographiearbeit – themenzentrierte Genogramm-Arbeit
DESCRIPTION:Sie arbeiten bereits mit Genogrammen und möchten Ihr Wissen vertiefen – oder diese Methode neu erlernen? \nHier erhalten Sie grundlegendes Wissen über Techniken und Anwendungsmöglichkeiten dieser Art der Biographiearbeit. \nPraktische Übungen und konkrete Umsetzung des Gelernten anhand des Genogramms\, wahlweise der eigenen Herkunftsfamilie oder aus dem Arbeitsfeld\, vertiefen das Gelernte und runden das Seminar ab.
URL:https://resoportal.de/event/biographiearbeit-themenzentrierte-genogramm-arbeit/
LOCATION:Seehaus-Akademie Leonberg\, Glemseck 1\, Leonberg\, Baden-Württemberg\, 71229\, Deutschland
ORGANIZER;CN="Seehaus e. V.":MAILTO:akademie@seehaus-ev.de
END:VEVENT
BEGIN:VEVENT
DTSTART;TZID=Europe/Berlin:20240221T090000
DTEND;TZID=Europe/Berlin:20240221T130000
DTSTAMP:20260424T191047
CREATED:20231202T194054Z
LAST-MODIFIED:20240209T163936Z
UID:10000001-1708506000-1708520400@resoportal.de
SUMMARY:Vom Ermittlungsverfahren bis zur Verhandlung
DESCRIPTION:Der Weg des Strafverfahrens\nIn der Veranstaltung stehen die Rechte und Pflichten von Opfern von Straftaten im polizeilichen Ermittlungsverfahren und im anschließenden Strafverfahren im Vordergrund. Aufgrund der Erfahrung der Referentin als polizeiliche Opferschutzkoordinatorin liegt der Schwerpunkt dabei im Bereich des polizeilichen Ermittlungsverfahrens. Es wird auf verschiedene Fragestellungen eingegangen\, z. B. gibt es einen richtigen Zeitpunkt der Anzeigeerstattung? Welche Daten speichert die Polizei und wie lange? Was steht in der polizeilichen Kriminalstatistik (PKS)? Wie kann die Polizei Menschen\, die gefährdet sind\, schützen? Was ist eine vertrauliche Spurensicherung? \nFür Mitarbeitende aus der Opferhilfe und pädagogischen Bereichen
URL:https://resoportal.de/event/vom-ermittlungsverfahren-bis-zur-verhandlung/
LOCATION:Seehaus-Akademie Leonberg\, Glemseck 1\, Leonberg\, Baden-Württemberg\, 71229\, Deutschland
ORGANIZER;CN="Seehaus e. V.":MAILTO:akademie@seehaus-ev.de
END:VEVENT
END:VCALENDAR