BEGIN:VCALENDAR
VERSION:2.0
PRODID:-//Resoportal - ECPv6.15.20//NONSGML v1.0//EN
CALSCALE:GREGORIAN
METHOD:PUBLISH
X-ORIGINAL-URL:https://resoportal.de
X-WR-CALDESC:Veranstaltungen für Resoportal
REFRESH-INTERVAL;VALUE=DURATION:PT1H
X-Robots-Tag:noindex
X-PUBLISHED-TTL:PT1H
BEGIN:VTIMEZONE
TZID:Europe/Berlin
BEGIN:DAYLIGHT
TZOFFSETFROM:+0100
TZOFFSETTO:+0200
TZNAME:CEST
DTSTART:20230326T010000
END:DAYLIGHT
BEGIN:STANDARD
TZOFFSETFROM:+0200
TZOFFSETTO:+0100
TZNAME:CET
DTSTART:20231029T010000
END:STANDARD
BEGIN:DAYLIGHT
TZOFFSETFROM:+0100
TZOFFSETTO:+0200
TZNAME:CEST
DTSTART:20240331T010000
END:DAYLIGHT
BEGIN:STANDARD
TZOFFSETFROM:+0200
TZOFFSETTO:+0100
TZNAME:CET
DTSTART:20241027T010000
END:STANDARD
BEGIN:DAYLIGHT
TZOFFSETFROM:+0100
TZOFFSETTO:+0200
TZNAME:CEST
DTSTART:20250330T010000
END:DAYLIGHT
BEGIN:STANDARD
TZOFFSETFROM:+0200
TZOFFSETTO:+0100
TZNAME:CET
DTSTART:20251026T010000
END:STANDARD
END:VTIMEZONE
BEGIN:VEVENT
DTSTART;VALUE=DATE:20240514
DTEND;VALUE=DATE:20240515
DTSTAMP:20260421T120454
CREATED:20240310T230851Z
LAST-MODIFIED:20240310T230851Z
UID:10000023-1715644800-1715731199@resoportal.de
SUMMARY:8. BIOS-Opferschutztag: Versorgung von traumatisierten Menschen und Grundfragen der Psychotraumatologie
DESCRIPTION:Die zum 1.1.2024 durch das SGB XIV neu aufgestellten Traumaambulanzen sind im Hinblick auf die ständig steigende Nachfrage seitens Betroffener von Gewalt- und Sexualstraftaten deutschlandweit wichtige Institutionen. Hier können Betroffene niederschwellig und innerhalb kürzester Zeit psychologische Unterstützung erhalten. Ziel ist es\, vor einer Entstehung oder Verschlechterung psychischer Symptomatik zu schützen und angemessen psychotherapeutisch zu versorgen. Durch die Gesetzesnovelle besteht für alle Geschädigten und teilweise auch für deren Angehörige ein gesetzlicher Anspruch auf Inanspruchnahme von Leistungen in Traumaambulanzen. \nIm Rahmen des 8. BIOS-Opferschutztages wollen wir nicht nur die Arbeit von Traumaambulanzen zur Verhinderung des Eintritts schwerer Traumafolgestörungen beleuchten\, sondern uns darüber hinaus mit Grundfragen der Psychotraumatologie befassen\, die für unser Verständnis solcher Traumata und deren Behandlung zentrale Bedeutung haben.
URL:https://resoportal.de/event/8-bios-opferschutztag-versorgung-von-traumatisierten-menschen-und-grundfragen-der-psychotraumatologie/
LOCATION:Bezirksärztekammer Nordbaden\, Zimmerstraße 3\, Karlsruhe\, 76137\, Deutschland
CATEGORIES:Online,Präsenz
ORGANIZER;CN="Behandlungsinitiative Opferschutz (BIOS-BW) e.V.":MAILTO:info@bios-bw.de
END:VEVENT
END:VCALENDAR