BEGIN:VCALENDAR
VERSION:2.0
PRODID:-//Resoportal - ECPv6.15.20//NONSGML v1.0//EN
CALSCALE:GREGORIAN
METHOD:PUBLISH
X-WR-CALNAME:Resoportal
X-ORIGINAL-URL:https://resoportal.de
X-WR-CALDESC:Veranstaltungen für Resoportal
REFRESH-INTERVAL;VALUE=DURATION:PT1H
X-Robots-Tag:noindex
X-PUBLISHED-TTL:PT1H
BEGIN:VTIMEZONE
TZID:Europe/Berlin
BEGIN:DAYLIGHT
TZOFFSETFROM:+0100
TZOFFSETTO:+0200
TZNAME:CEST
DTSTART:20250330T010000
END:DAYLIGHT
BEGIN:STANDARD
TZOFFSETFROM:+0200
TZOFFSETTO:+0100
TZNAME:CET
DTSTART:20251026T010000
END:STANDARD
BEGIN:DAYLIGHT
TZOFFSETFROM:+0100
TZOFFSETTO:+0200
TZNAME:CEST
DTSTART:20260329T010000
END:DAYLIGHT
BEGIN:STANDARD
TZOFFSETFROM:+0200
TZOFFSETTO:+0100
TZNAME:CET
DTSTART:20261025T010000
END:STANDARD
BEGIN:DAYLIGHT
TZOFFSETFROM:+0100
TZOFFSETTO:+0200
TZNAME:CEST
DTSTART:20270328T010000
END:DAYLIGHT
BEGIN:STANDARD
TZOFFSETFROM:+0200
TZOFFSETTO:+0100
TZNAME:CET
DTSTART:20271031T010000
END:STANDARD
END:VTIMEZONE
BEGIN:VEVENT
DTSTART;TZID=Europe/Berlin:20260504T090000
DTEND;TZID=Europe/Berlin:20260504T123000
DTSTAMP:20260424T162430
CREATED:20260415T013330Z
LAST-MODIFIED:20260415T013517Z
UID:10000077-1777885200-1777897800@resoportal.de
SUMMARY:Wie spreche ich mit Kindern über die Inhaftierung eines Elternteils? Gründe für einen ehrlichen Umgang mit dem Thema Haft – Informationen und Hilfen für Eltern/Bezugspersonen/Fachkräfte – Tipps fürs Gespräch - Formulierungshilfen
DESCRIPTION:
URL:https://resoportal.de/event/wie-spreche-ich-mit-kindern-ueber-die-inhaftierung-eines-elternteils-gruende-fuer-einen-ehrlichen-umgang-mit-dem-thema-haft-informationen-und-hilfen-fuer-eltern-bezugspersonen-fachkraefte/
LOCATION:Online
END:VEVENT
END:VCALENDAR