BEGIN:VCALENDAR
VERSION:2.0
PRODID:-//Resoportal - ECPv6.15.20//NONSGML v1.0//EN
CALSCALE:GREGORIAN
METHOD:PUBLISH
X-WR-CALNAME:Resoportal
X-ORIGINAL-URL:https://resoportal.de
X-WR-CALDESC:Veranstaltungen für Resoportal
REFRESH-INTERVAL;VALUE=DURATION:PT1H
X-Robots-Tag:noindex
X-PUBLISHED-TTL:PT1H
BEGIN:VTIMEZONE
TZID:Europe/Berlin
BEGIN:DAYLIGHT
TZOFFSETFROM:+0100
TZOFFSETTO:+0200
TZNAME:CEST
DTSTART:20240331T010000
END:DAYLIGHT
BEGIN:STANDARD
TZOFFSETFROM:+0200
TZOFFSETTO:+0100
TZNAME:CET
DTSTART:20241027T010000
END:STANDARD
BEGIN:DAYLIGHT
TZOFFSETFROM:+0100
TZOFFSETTO:+0200
TZNAME:CEST
DTSTART:20250330T010000
END:DAYLIGHT
BEGIN:STANDARD
TZOFFSETFROM:+0200
TZOFFSETTO:+0100
TZNAME:CET
DTSTART:20251026T010000
END:STANDARD
BEGIN:DAYLIGHT
TZOFFSETFROM:+0100
TZOFFSETTO:+0200
TZNAME:CEST
DTSTART:20260329T010000
END:DAYLIGHT
BEGIN:STANDARD
TZOFFSETFROM:+0200
TZOFFSETTO:+0100
TZNAME:CET
DTSTART:20261025T010000
END:STANDARD
END:VTIMEZONE
BEGIN:VEVENT
DTSTART;TZID=Europe/Berlin:20250901T100000
DTEND;TZID=Europe/Berlin:20250901T174500
DTSTAMP:20260425T010615
CREATED:20250701T170355Z
LAST-MODIFIED:20250701T170355Z
UID:10000057-1756720800-1756748700@resoportal.de
SUMMARY:Das Prostituiertenschutzgesetz auf dem Prüfstand – Zu den Ergebnissen der gesetzlich vorgeschriebenen Evaluation
DESCRIPTION:Veranstalter: Institut für Kriminalwissenschaften\, Georg-August-Universität Göttingen und\nKriminologisches Forschungsinstitut Niedersachsen
URL:https://resoportal.de/event/das-prostituiertenschutzgesetz-auf-dem-pruefstand-zu-den-ergebnissen-der-gesetzlich-vorgeschriebenen-evaluation/
LOCATION:Veranstaltungshaus Alte Mensa\, Adam-von-Trott-Saal\, Wilhelmsplatz 3\, Göttingen\, 37072\, Germany
END:VEVENT
END:VCALENDAR